BEGIN:VCALENDAR
VERSION:2.0
CALSCALE:GREGORIAN
METHOD:PUBLISH
X-WR-TIMEZONE:Australia/Sydney
BEGIN:VTIMEZONE
TZID:Australia/Sydney
BEGIN:STANDARD
TZNAME:AEST
END:STANDARD
END:VTIMEZONE
BEGIN:VEVENT
DTSTART;TZID=Australia/Sydney:20190211T090000
DTEND;TZID=Australia/Sydney:20190211T093000
DTSTAMP:20260425T054148
UID:815
SUMMARY:Life Education Parent Information Session
DESCRIPTION:This session will give parents the opportunity to gain an understanding of what the students will experiencing during their time spent with Life Education.
SEQUENCE:0
STATUS:CONFIRMED
TRANSP:OPAQUE
END:VEVENT
END:VCALENDAR